BEGIN:VCALENDAR
VERSION:2.0
PRODID:spatie/icalendar-generator
DESCRIPTION:Events from Genesee Valley Indivisible
X-WR-CALDESC:Events from Genesee Valley Indivisible
REFRESH-INTERVAL;VALUE=DURATION:PT1440M
X-PUBLISHED-TTL:PT1440M
BEGIN:VTIMEZONE
TZID:America/New_York
BEGIN:STANDARD
DTSTART:20251102T020000Z
TZOFFSETFROM:-0400
TZOFFSETTO:-0500
END:STANDARD
BEGIN:DAYLIGHT
DTSTART:20260308T020000Z
TZOFFSETFROM:-0500
TZOFFSETTO:-0400
END:DAYLIGHT
END:VTIMEZONE
BEGIN:VTIMEZONE
TZID:UTC
BEGIN:STANDARD
DTSTART:20250724T020658Z
TZOFFSETFROM:+0000
TZOFFSETTO:+0000
END:STANDARD
END:VTIMEZONE
BEGIN:VEVENT
UID:3644-467
DTSTAMP:20260420T020658Z
SUMMARY:Weekly Wednesday Rally - Hemlock
LOCATION:Corner of Rtes 20A &amp;amp\; 15A 7350 Richmond Mills Rd (address of L
 ivingston Automotive\, which has no affiliation with this event) Livonia N
 Y 14487
ORGANIZER;CN=Genesee Valley Indivisible:MAILTO:maryann@msrwebservices.com
RRULE:FREQ=WEEKLY;UNTIL=20261231T000000Z
DTSTART;TZID=America/New_York:20260422T163000
DTEND;TZID=America/New_York:20260422T173000
X-ALT-DESC;FMTTYPE=TEXT/HTML:Hemlock Rising Indivisible hosts: \"Weekly Wed
 nesday\" Protest 4:30 to 5:30 pm Every Wednesday Corner of Rt 15A and Rt 2
 0A General theme: \"YOU name it!\" EXAMPLES Opposition to the dismantlin
 g of our democracy\, lawlessness and cruelty of ICE\, the oppression of 
 working class\, sanctioned racism\, sexism\, elimination of LGBTQ+ right
 s\, deterioration of the US foreign relations\, genocide in Gaza...
CATEGORIES:Rally,  Hemlock Rising Indivisible
URL;VALUE=URI:https://geneseevalleyindivisible.org/mc-events/weekly-wednesd
 ay-rally-hemlock/?mc_id=3644
METHOD:PUBLISH
END:VEVENT
END:VCALENDAR