BEGIN:VCALENDAR
VERSION:2.0
PRODID:spatie/icalendar-generator
DESCRIPTION:Events from Genesee Valley Indivisible
X-WR-CALDESC:Events from Genesee Valley Indivisible
REFRESH-INTERVAL;VALUE=DURATION:PT1440M
X-PUBLISHED-TTL:PT1440M
BEGIN:VTIMEZONE
TZID:America/New_York
BEGIN:STANDARD
DTSTART:20251102T020000Z
TZOFFSETFROM:-0400
TZOFFSETTO:-0500
END:STANDARD
BEGIN:DAYLIGHT
DTSTART:20260308T020000Z
TZOFFSETFROM:-0500
TZOFFSETTO:-0400
END:DAYLIGHT
END:VTIMEZONE
BEGIN:VTIMEZONE
TZID:UTC
BEGIN:STANDARD
DTSTART:20250724T020835Z
TZOFFSETFROM:+0000
TZOFFSETTO:+0000
END:STANDARD
END:VTIMEZONE
BEGIN:VEVENT
UID:7072-32
DTSTAMP:20260420T020835Z
SUMMARY:Weekly Friday Rally - Geneseo
LOCATION:Geneseo Gateway Corner Park Route 20A &amp;amp\; Volunteer Road  Genes
 eo NY 14454
ORGANIZER;CN=Genesee Valley Indivisible:MAILTO:maryann@msrwebservices.com
RRULE:FREQ=WEEKLY;UNTIL=20261231T000000Z
DTSTART;TZID=America/New_York:20260424T160000
DTEND;TZID=America/New_York:20260424T170000
X-ALT-DESC;FMTTYPE=TEXT/HTML:Every week\, weather permitting\, at least a h
 alf-dozen Indivisibles and friends gather at the Gateway Corner Park in Ge
 neseo\, NY\, at the intersection of Volunteer Road and US 20A. They displa
 y signs protesting the authoritarianism in Washington and demonstrating th
 eir resolve to protect the U.S. Constitution. Parking is limited at the pa
 rk\, although there is&amp;hellip\;
CATEGORIES:Genesee Valley Indivisible,  Rally
URL;VALUE=URI:https://geneseevalleyindivisible.org/mc-events/weekly-friday-
 rally-geneseo-3/?mc_id=7072
METHOD:PUBLISH
END:VEVENT
END:VCALENDAR