BEGIN:VCALENDAR
VERSION:2.0
PRODID:spatie/icalendar-generator
DESCRIPTION:Events from Genesee Valley Indivisible
X-WR-CALDESC:Events from Genesee Valley Indivisible
REFRESH-INTERVAL;VALUE=DURATION:PT1440M
X-PUBLISHED-TTL:PT1440M
BEGIN:VTIMEZONE
TZID:America/New_York
BEGIN:STANDARD
DTSTART:20251102T020000Z
TZOFFSETFROM:-0400
TZOFFSETTO:-0500
END:STANDARD
BEGIN:DAYLIGHT
DTSTART:20260308T020000Z
TZOFFSETFROM:-0500
TZOFFSETTO:-0400
END:DAYLIGHT
END:VTIMEZONE
BEGIN:VTIMEZONE
TZID:UTC
BEGIN:STANDARD
DTSTART:20250724T020109Z
TZOFFSETFROM:+0000
TZOFFSETTO:+0000
END:STANDARD
END:VTIMEZONE
BEGIN:VEVENT
UID:6547-2489
DTSTAMP:20260420T020109Z
SUMMARY:Stand Up\, Fight Back Saturdays - Mt. Morris NY
LOCATION:Pocket Park - Mt. Morris\, NY 46 E State Street  Mt. Morris NY 145
 10
ORGANIZER;CN=Genesee Valley Indivisible:MAILTO:maryann@msrwebservices.com
DTSTART;TZID=America/New_York:20260425T120000
DTEND;TZID=America/New_York:20260425T130000
X-ALT-DESC;FMTTYPE=TEXT/HTML:Stand Up\, Fight Back Saturday National Day of
  Action – Stop ICE Warehouse Detention  Join us in Mt. Morris\, NY\, at
  45 East State Street (Intersection of Main Street [NY Rte 36] and State S
 treet [NY Rte 408])\, from Noon to 1pm. Our rally is part of a nationwide 
 day of action to oppose the&amp;hellip\;
CATEGORIES:Genesee Valley Indivisible,  Rally
URL;VALUE=URI:https://geneseevalleyindivisible.org/mc-events/stand-up-fight
 -back-saturdays-mt-morris-ny/
METHOD:PUBLISH
END:VEVENT
END:VCALENDAR